BEGIN:VCALENDAR
VERSION:2.0
PRODID:-//Old Orchard Farm - ECPv6.15.20//NONSGML v1.0//EN
CALSCALE:GREGORIAN
METHOD:PUBLISH
X-WR-CALNAME:Old Orchard Farm
X-ORIGINAL-URL:https://oldorchardfarm.ca
X-WR-CALDESC:Events for Old Orchard Farm
REFRESH-INTERVAL;VALUE=DURATION:PT1H
X-Robots-Tag:noindex
X-PUBLISHED-TTL:PT1H
BEGIN:VTIMEZONE
TZID:UTC
BEGIN:STANDARD
TZOFFSETFROM:+0000
TZOFFSETTO:+0000
TZNAME:UTC
DTSTART:20180101T000000
END:STANDARD
END:VTIMEZONE
BEGIN:VEVENT
DTSTART;VALUE=DATE:20190422
DTEND;VALUE=DATE:20190423
DTSTAMP:20260422T013100
CREATED:20190418T224906Z
LAST-MODIFIED:20190418T225146Z
UID:6763-1555891200-1555977599@oldorchardfarm.ca
SUMMARY:Pony Club Switch Clinic
DESCRIPTION:
URL:https://oldorchardfarm.ca/event/pony-club-switch-clinic/
LOCATION:Old Orchard Farm\, 12386 First Line Nassagaweya\, Moffat\, Ontario\, L0P 1J0\, Canada
CATEGORIES:Pony Club Event
ORGANIZER;CN="Old Orchard Farm":MAILTO:info@oldorchardfarm.ca
END:VEVENT
BEGIN:VEVENT
DTSTART;TZID=UTC:20190421T123000
DTEND;TZID=UTC:20190421T133000
DTSTAMP:20260422T013100
CREATED:20190418T225038Z
LAST-MODIFIED:20190418T225038Z
UID:6765-1555849800-1555853400@oldorchardfarm.ca
SUMMARY:Easter Egg Hunt Hack
DESCRIPTION:
URL:https://oldorchardfarm.ca/event/easter-egg-hunt-hack/
LOCATION:Old Orchard Farm\, 12386 First Line Nassagaweya\, Moffat\, Ontario\, L0P 1J0\, Canada
CATEGORIES:OOF Team Event
ORGANIZER;CN="Old Orchard Farm":MAILTO:info@oldorchardfarm.ca
END:VEVENT
BEGIN:VEVENT
DTSTART;VALUE=DATE:20190318
DTEND;VALUE=DATE:20190319
DTSTAMP:20260422T013100
CREATED:20190316T025307Z
LAST-MODIFIED:20190316T025307Z
UID:6617-1552867200-1552953599@oldorchardfarm.ca
SUMMARY:Start Spring Lesson Session
DESCRIPTION:
URL:https://oldorchardfarm.ca/event/start-spring-lesson-session/
LOCATION:Old Orchard Farm\, 12386 First Line Nassagaweya\, Moffat\, Ontario\, L0P 1J0\, Canada
CATEGORIES:Lessons
END:VEVENT
BEGIN:VEVENT
DTSTART;TZID=UTC:20190311T080000
DTEND;TZID=UTC:20190316T170000
DTSTAMP:20260422T013100
CREATED:20190228T040109Z
LAST-MODIFIED:20190228T040109Z
UID:6507-1552291200-1552755600@oldorchardfarm.ca
SUMMARY:March Break Advanced Camp
DESCRIPTION:
URL:https://oldorchardfarm.ca/event/march-break-advanced-camp/
LOCATION:Old Orchard Farm\, 12386 First Line Nassagaweya\, Moffat\, Ontario\, L0P 1J0\, Canada
CATEGORIES:Camp
ORGANIZER;CN="Old Orchard Farm":MAILTO:info@oldorchardfarm.ca
END:VEVENT
END:VCALENDAR