BEGIN:VCALENDAR
VERSION:2.0
PRODID:-//Old Orchard Farm - ECPv6.15.20//NONSGML v1.0//EN
CALSCALE:GREGORIAN
METHOD:PUBLISH
X-WR-CALNAME:Old Orchard Farm
X-ORIGINAL-URL:https://oldorchardfarm.ca
X-WR-CALDESC:Events for Old Orchard Farm
REFRESH-INTERVAL;VALUE=DURATION:PT1H
X-Robots-Tag:noindex
X-PUBLISHED-TTL:PT1H
BEGIN:VTIMEZONE
TZID:UTC
BEGIN:STANDARD
TZOFFSETFROM:+0000
TZOFFSETTO:+0000
TZNAME:UTC
DTSTART:20220101T000000
END:STANDARD
END:VTIMEZONE
BEGIN:VEVENT
DTSTART;VALUE=DATE:20231118
DTEND;VALUE=DATE:20231120
DTSTAMP:20260422T030931
CREATED:20231108T155523Z
LAST-MODIFIED:20231108T155801Z
UID:9374-1700265600-1700438399@oldorchardfarm.ca
SUMMARY:Annual "I'm Riding for Erika Lamb" Equitation Clinic
DESCRIPTION:
URL:https://oldorchardfarm.ca/event/annual-im-riding-for-erika-lamb-equitation-clinic/
LOCATION:Old Orchard Farm\, 12386 First Line Nassagaweya\, Moffat\, Ontario\, L0P 1J0\, Canada
CATEGORIES:Clinic,Open Event
ATTACH;FMTTYPE=image/png:https://oldorchardfarm.ca/wp-content/uploads/2023/11/Lauren-Hayes-Clinic.png
ORGANIZER;CN="Old Orchard Farm":MAILTO:info@oldorchardfarm.ca
END:VEVENT
END:VCALENDAR