BEGIN:VCALENDAR
VERSION:2.0
PRODID:-//Old Orchard Farm - ECPv6.15.20//NONSGML v1.0//EN
CALSCALE:GREGORIAN
METHOD:PUBLISH
X-ORIGINAL-URL:https://oldorchardfarm.ca
X-WR-CALDESC:Events for Old Orchard Farm
REFRESH-INTERVAL;VALUE=DURATION:PT1H
X-Robots-Tag:noindex
X-PUBLISHED-TTL:PT1H
BEGIN:VTIMEZONE
TZID:UTC
BEGIN:STANDARD
TZOFFSETFROM:+0000
TZOFFSETTO:+0000
TZNAME:UTC
DTSTART:20210101T000000
END:STANDARD
END:VTIMEZONE
BEGIN:VEVENT
DTSTART;VALUE=DATE:20221119
DTEND;VALUE=DATE:20221121
DTSTAMP:20260421T200257
CREATED:20221107T214435Z
LAST-MODIFIED:20221108T012758Z
UID:8994-1668816000-1668988799@oldorchardfarm.ca
SUMMARY:2022 I'm Riding 4 Erika Lamb Equitation Clinic
DESCRIPTION:Old Orchard Farm is happy to announce the details of our annual I Ride 4 Erika Equitation Clinic! \nSaturday November 19th & Sunday November 20th \nGuest Clinician Lois Mulligan of Stoney Fields \nThis year we will be running 4 groups of up to 6 horse/rider combinations. Each group will ride on both the Saturday and Sunday. The clinic is open to riders showing 2’0 or above or preparing to show 2’0 and above next season. \nCost is $250.00 ($300 for OOF riders riding an OOF owned horse) for two days\, which includes a goody bag for each participant\, beverages and snacks on Friday evening and a prepared bagged lunch and beverages on Saturday. \nPayment will be credit card only and must be paid at the time of registration. \nSaturday  \n9:00 AM – Group 1 \n10:30 AM – Group 2 \n12:00 PM – Lunch \n1:00 PM – Group 3 \n2:30 PM – Group 4 \nSunday  \n9:00 AM – Group 1 \n10:30 AM – Group 2 \n12:00 PM – Lunch \n1:00 PM – Group 3 \n2:30 PM – Group 4 \nSaturday 5:00 PM – Unmounted Q&A session with Lois (coffee\, tea and desserts to be served at this time)
URL:https://oldorchardfarm.ca/event/2022-im-riding-4-erika-lamb-equitation-clinic/
LOCATION:Old Orchard Farm\, 12386 First Line Nassagaweya\, Moffat\, Ontario\, L0P 1J0\, Canada
CATEGORIES:Clinic
ATTACH;FMTTYPE=image/jpeg:https://oldorchardfarm.ca/wp-content/uploads/2022/11/285528051_5231187360271505_1062372950685173756_n.jpg
ORGANIZER;CN="Old Orchard Farm":MAILTO:info@oldorchardfarm.ca
END:VEVENT
END:VCALENDAR